BEGIN:VCALENDAR
VERSION:2.0
PRODID:-//Centro Spazio Infinito - ECPv4.9.14//NONSGML v1.0//EN
CALSCALE:GREGORIAN
METHOD:PUBLISH
X-WR-CALNAME:Centro Spazio Infinito
X-ORIGINAL-URL:https://www.spazioinfinito.net
X-WR-CALDESC:Eventi per Centro Spazio Infinito
BEGIN:VTIMEZONE
TZID:Europe/Rome
BEGIN:DAYLIGHT
TZOFFSETFROM:+0100
TZOFFSETTO:+0200
TZNAME:CEST
DTSTART:20190331T010000
END:DAYLIGHT
BEGIN:STANDARD
TZOFFSETFROM:+0200
TZOFFSETTO:+0100
TZNAME:CET
DTSTART:20191027T010000
END:STANDARD
END:VTIMEZONE
BEGIN:VEVENT
DTSTART;TZID=Europe/Rome:20190816T203000
DTEND;TZID=Europe/Rome:20190816T223000
DTSTAMP:20260423T051325
CREATED:20190728T175507Z
LAST-MODIFIED:20190728T175507Z
UID:13590-1565987400-1565994600@www.spazioinfinito.net
SUMMARY:16 AGOSTO ARMONIZZAZIONE DELLE ENERGIE FEMMINILI
DESCRIPTION:La Womb Blessing – Armonizzazione delle Energie Femminili o “Benedizione del Grembo”- è una pratica ideata da Miranda Gray che risveglia le energie femminili e porta guarigione profonda e trasformatrice a tutti gli aspetti della femminilità\, connettendo la donna più profondamente alla Sacralità Femminile. \nDurante la meditazione di agosto accogliamo le energie dell’archetipo dell’ Incantatrice della Terra: la Madre ci fornisce l’energia del grembo ricolmo di abbondanza\, ma il flusso del ciclo continua\, per cui intraprendiamo il cammino dei frutti maturi che cadono a terra. I nostri progetti entrano nella loro pienezza e iniziamo un altro ciclo – quello in cui seminiamo i nostri sogni che\, come semi\, resteranno nella terra\, per crescere con le nuove energie della Primavera e della pre-ovulazione. \nSe desideri ricevere a distanza l’energia di Miranda Gray e delle Moonmother iscriviti entro le ore 22:00 (ora UK) del 14 agosto al sito: http://www.mirandagray.co.uk/register.html scegliendo come orario ore 18. \nSe vuoi unirti al cerchio di Parma guidato dalla Moonmother Avanzata Franca Soavi iscriviti al. 3474095586 oppure scrivi a. centrospazioinfinito@gmail.com \n“Come si forma un bambino nel ventre della madre? Il padre ha fornito il seme\, e per nove mesi la madre avvolge di materia quel seme dandogli un corpo.\nAllo stesso odo\, nel piano spirituale un Maestro\,\nun Iniziato\, può dare un seme\, ovvero un’idea sublime\, e affinché quell’idea prenda corpo egli ha bisogno che le donne gliene forniscano la materia.\nTale materia è costituita dalle particelle eteriche e dai fluidi che emanano dalle donne stesse.\nQuel corpo esiste dapprima nell’invisibile\, ma se ci si concentra su di esso\, se lo si alimenta e si lavora su di esso\, questo corpo scende progressivamente fino a diventare una realtà quasi visibile e tangibile.\nDirete che non avete mai sentito una teoria tanto inverosimile.\nVi sembra inverosimile\, ma è vera!\nIl giorno in cui le donne\, come entità collettiva\, accetteranno di essere fecondate dall’idea del Regno di Dio sulla terra annunciato da Gesù\, forniranno la materia necessaria alla sua realizzazione.”\n– Omraam Mikhaël Aïvanhov \n
URL:https://www.spazioinfinito.net/event/16-agosto-armonizzazione-delle-energie-femminili/
LOCATION:Spazio Infinito\, Via Sassari 19\, Parma\, Italia
CATEGORIES:Prossimi eventi
ATTACH;FMTTYPE=image/jpeg:https://www.spazioinfinito.net/wp-content/uploads/2019/07/DONNA.jpg
ORGANIZER;CN="Spazio%20Infinito":MAILTO:centrospazioinfinito@gmail.com
END:VEVENT
END:VCALENDAR