BEGIN:VCALENDAR
VERSION:2.0
PRODID:-//Centro Spazio Infinito - ECPv4.9.14//NONSGML v1.0//EN
CALSCALE:GREGORIAN
METHOD:PUBLISH
X-WR-CALNAME:Centro Spazio Infinito
X-ORIGINAL-URL:https://www.spazioinfinito.net
X-WR-CALDESC:Eventi per Centro Spazio Infinito
BEGIN:VTIMEZONE
TZID:Europe/Rome
BEGIN:DAYLIGHT
TZOFFSETFROM:+0100
TZOFFSETTO:+0200
TZNAME:CEST
DTSTART:20190331T010000
END:DAYLIGHT
BEGIN:STANDARD
TZOFFSETFROM:+0200
TZOFFSETTO:+0100
TZNAME:CET
DTSTART:20191027T010000
END:STANDARD
END:VTIMEZONE
BEGIN:VEVENT
DTSTART;TZID=Europe/Rome:20190427T083000
DTEND;TZID=Europe/Rome:20190427T133000
DTSTAMP:20260423T023944
CREATED:20190326T163427Z
LAST-MODIFIED:20190422T090209Z
UID:13374-1556353800-1556371800@www.spazioinfinito.net
SUMMARY:27 aprile Leadership etica
DESCRIPTION:Il corso si prefigge di fornire una conoscenza specifica sulle più efficaci metodiche di comunicazione basate sull’empatia\, la non-violenza e l’etica. Ogni partecipante riceverà le informazioni per condurre un gruppo di lavoro\, organizzare una conferenza o una presentazione e per sostenere con successo e sicurezza professionale e personale un colloquio con il cliente\, qualunque sia il suo ambito lavorativo o di interesse. Il corso è teorico-pratico\, pertanto sono previste simulazioni ed esercitazioni con il gruppo di lavoro. \nPROGRAMMA GENERALE:\n– Linguaggio verbale e non verbale\n– Parlare in pubblico\n– La postura\n– La voce\n– La Bioenergetica: comprendere le emozioni attraverso il corpo\n– L’Attenzione\, cos’è\, come tenerla e risvegliarla\n– L’ascolto\n– Cooperazione vs competizione: il team\n– Dare per ricevere. La Legge di Risonanza\n– Il potere dell’immaginazione nel lavoro ad obiettivi\n– I tre malattie: paura del fallimento\, attaccamento ai risultati\, voler vendere\n– Le tre medicine: autostima\, ricominciare sempre\, saper attendere\n– Gestione dello stress: meditazione e rilassamento come risorse per migliorare la propria professionalità \nCosto dell’ incontro: 75 euro + Iva \nConduttore di gruppo: FRANCA SOAVI \n
URL:https://www.spazioinfinito.net/event/27-aprile-leadership-etica/
LOCATION:Spazio Infinito\, Via Sassari 19\, Parma\, Italia
CATEGORIES:Prossimi eventi
ATTACH;FMTTYPE=image/jpeg:https://www.spazioinfinito.net/wp-content/uploads/2019/03/65475097.jpg
ORGANIZER;CN="Spazio%20Infinito":MAILTO:centrospazioinfinito@gmail.com
END:VEVENT
END:VCALENDAR