BEGIN:VCALENDAR
VERSION:2.0
PRODID:-//Centro Spazio Infinito - ECPv4.9.14//NONSGML v1.0//EN
CALSCALE:GREGORIAN
METHOD:PUBLISH
X-WR-CALNAME:Centro Spazio Infinito
X-ORIGINAL-URL:https://www.spazioinfinito.net
X-WR-CALDESC:Eventi per Centro Spazio Infinito
BEGIN:VTIMEZONE
TZID:Europe/Rome
BEGIN:DAYLIGHT
TZOFFSETFROM:+0100
TZOFFSETTO:+0200
TZNAME:CEST
DTSTART:20200329T010000
END:DAYLIGHT
BEGIN:STANDARD
TZOFFSETFROM:+0200
TZOFFSETTO:+0100
TZNAME:CET
DTSTART:20201025T010000
END:STANDARD
END:VTIMEZONE
BEGIN:VEVENT
DTSTART;TZID=Europe/Rome:20200107T180000
DTEND;TZID=Europe/Rome:20200107T190000
DTSTAMP:20260422T231734
CREATED:20191205T170045Z
LAST-MODIFIED:20191205T170045Z
UID:13795-1578420000-1578423600@www.spazioinfinito.net
SUMMARY:7 e 8 gennaio Inizio Corso di Meditazione in 12 lezioni
DESCRIPTION:La Meditazione è uno strumento per tutti\, attraverso il quale è possibile migliorare la qualità della propria vita\, gestire ansia\, stress\, emozioni negative e vivere il presente in modo più appagante.\nUn percorso di 12 lezioni  per imparare ad avere maestria sulla propria mente\, invece che lasciarsi dominare da lei\, e per ritrovare quel centro di pace e gioia insito in ognuno di noi.\nLezioni individuali su appuntamento.\nA cura di Franca Soavi \n  \nIl percorso settimanale si svolge ogni MERCOLEDI’ dalle h.19\,00 alle h.20\,00 e/o ogni MARTEDI’ dalle h.18\,00 alle h.19\,00 \nAlla fine di un percorso di 12 lezioni se ne attiveranno altri (sempre suddivisi in 12 lezioni) senza soluzione di continuità\, fino a metà giugno 2020. \nOgni percorso tratterà temi specifici a seconda del gruppo e delle esigenze. \nTema delle 12 lezioni dal 7/1/2020 al 24 marzo 2020: CENTRATURA E DISTACCO\nPosti limitati! \nCosto di ogni percorso di 12 lezioni: euro 180\,00 Iva inclusa. \nChi perderà una lezione al corso del mercoledì potrà recuperarla al corso del martedì e viceversa\, nell’arco dei 3 mesi di durata del percorsot \n  \n
URL:https://www.spazioinfinito.net/event/7-e-8-gennaio-inizio-corso-di-meditazione-in-12-lezioni/
LOCATION:Spazio Infinito\, Via Sassari 19\, Parma\, Italia
CATEGORIES:Prossimi eventi
ATTACH;FMTTYPE=image/jpeg:https://www.spazioinfinito.net/wp-content/uploads/2019/12/lotus-flower-1100x733.jpg
ORGANIZER;CN="Spazio%20Infinito":MAILTO:centrospazioinfinito@gmail.com
END:VEVENT
END:VCALENDAR