BEGIN:VCALENDAR
VERSION:2.0
PRODID:-//Centro Spazio Infinito - ECPv4.9.14//NONSGML v1.0//EN
CALSCALE:GREGORIAN
METHOD:PUBLISH
X-WR-CALNAME:Centro Spazio Infinito
X-ORIGINAL-URL:https://www.spazioinfinito.net
X-WR-CALDESC:Eventi per Centro Spazio Infinito
BEGIN:VTIMEZONE
TZID:Europe/Rome
BEGIN:DAYLIGHT
TZOFFSETFROM:+0100
TZOFFSETTO:+0200
TZNAME:CEST
DTSTART:20260329T010000
END:DAYLIGHT
BEGIN:STANDARD
TZOFFSETFROM:+0200
TZOFFSETTO:+0100
TZNAME:CET
DTSTART:20261025T010000
END:STANDARD
END:VTIMEZONE
BEGIN:VEVENT
DTSTART;TZID=Europe/Rome:20260202T203000
DTEND;TZID=Europe/Rome:20260202T214500
DTSTAMP:20260423T090726
CREATED:20260115T155435Z
LAST-MODIFIED:20260115T155435Z
UID:18831-1770064200-1770068700@www.spazioinfinito.net
SUMMARY:ALI BIANCHE PRESENTAZIONE
DESCRIPTION:Serata informativa sugli effetti dell’aborto nelle famiglie e nella collettività e  \nsull’elaborazione del lutto perinatale. \nOgni giorno ci sono numerosi bambini che\, pur avendo iniziato il loro viaggio nel grembo materno – il primo luogo di accoglienza\, nutrimento e amore – non arrivano mai a vedere la luce.\nLe loro vite si interrompono per svariate ragioni\, spesso nel silenzio e nell’omertà\, lasciando però tracce profonde inconsce nei genitori e familiari. È una realtà molto più diffusa di quanto si immagini\, e riguarda tutta la collettività\, da vicino o da lontano.\nQuesta serata nasce dal desiderio di portare luce\, consapevolezza e ascolto su un tema delicato e spesso taciuto e di offrire uno spazio informativo e umano in cui comprendere gli effetti di un aborto – spontaneo o volontario – non solo sulla madre o sul padre\, ma sull’intero sistema familiare. Fratelli\, sorelle e discendenti possono portarne le conseguenze anche a distanza di generazioni.\nOggi\, la facilità di accesso alle procedure abortive ha spesso allontanato dalla piena consapevolezza di ciò che una perdita perinatale comporta e di quanto sia profondo e doloroso il processo di elaborazione del lutto perinatale. Nel tentativo di “andare avanti” il prima possibile\, il dolore viene spesso messo a tacere o non ascoltato\, ma non per questo scompare. Al contrario\, può accompagnare a lungo genitori e familiari\, manifestandosi come sofferenza interiore persistente\, difficoltà relazionali\, senso di vuoto\, insuccesso nel lavoro e nella vita quotidiana. È come se\, inconsapevolmente\, si seguisse un movimento verso la perdita\, anziché verso la vita.\nDiventa quindi fondamentale offrire un’informazione chiara e rispettosa su cosa sia realmente l’aborto\, sulle sue implicazioni e su ciò che accade “dopo” la perdita di un bambino. Solo così è possibile sostenere genitori e famiglie nel modo più adeguato\, sia nel momento di decisioni estremamente difficili e dolorose come la decisione di un aborto\, sia nel delicato cammino di elaborazione del lutto perinatale. \nI numeri elevati degli aborti fanno sì che quasi ognuno di noi entri in contatto con storie di bambini non nati o nella propria famiglia\, o in quelle degli antenati\, o tra amici\, conoscenti e colleghi. Quando queste esperienze vengono affrontate in modo superficiale o frettoloso\, le conseguenze non restano individuali\, ma si riflettono sull’intera collettività\, influenzandone il benessere e la qualità umana.\nDurante la serata parleremo di:\n– quali sono gli effetti causati da un aborto sui genitori e familiari e anche sui discendenti\n(effetti emotivi\, psicologici e spirituali)\n– processo di elaborazione del lutto perinatale\n– suggerimenti utili per chi si trova ad affrontare un aborto\n– suggerimenti per essere di aiuto ai familiari e conoscenti che si trovano ad affrontare un\nlutto perinatale\nTutte le persone interessate sono invitate a partecipare a questa serata informativa. Chi sentirà il\nbisogno di approfondire ulteriormente questa tematica e di lavorare sul proprio vissuto potrà poi\naccedere a un seminario dedicato\, che si terrà presso il nostro Centro il giorno sabato 21 febbraio h.15\,30/19\,00 \nCONDUCE: MONICA DELPOGETTO \nChi è Monica? \n“Accompagno persone e organizzazioni\, attraverso percorsi di consapevolezza e trasformazione emotiva\, individuali o di gruppo\, a risolvere conflitti interiori\, familiari e relazionali\, ad affrontare lutti\, malattie o esperienze molto dolorose\, per trovare soluzioni concrete alle proprie sfide. Il mio obiettivo è supportare ciascuno a fare scelte autentiche e consapevoli\, rispettose della propria unicità\, creatività e dei propri talenti\, affinché ognuno possa scoprire e vivere la propria missione nella vita\, esprimere il proprio potenziale e contribuire a una società armoniosa\, solidale e consapevole.\n\nQuali strumenti vengono utilizzati da Monica?\nUtilizzo strumenti come Costellazioni sistemiche familiari (Metodo originale Bert Hellinger)\, Abbraccio Fermo (Metodo originale Irina Prekop)\, Counseling relazionale empatico (Diploma presso Centro Studi Bhaktivedanta)\, Accompagnamento a fine vita (Diploma presso  Centro Studi Bhaktivedanta)\, tecniche di Rigenerazioni spirituali (Insegnamenti Ron Young)\, in modo da combinare a questi approcci pratici\, la profondità spirituale per favorire consapevolezza\, armonia interiore e benessere duraturo.\n\nMi occupo di vari progetti\, tra cui il progetto Ali Bianche\, per supportare genitori e familiari che si trovano ad affrontare un aborto o elaborare un lutto perinatale\, anche a distanza di tempo.\n\nSERATA  A INGRESSO LIBERO\, PRENOTAZIONE NECESSARIA\n
URL:https://www.spazioinfinito.net/event/ali-bianche-presentazione/
LOCATION:Spazio Infinito\, Via Sassari 19\, Parma\, Italia
CATEGORIES:Prossimi eventi
ATTACH;FMTTYPE=image/png:https://www.spazioinfinito.net/wp-content/uploads/2026/01/1768143938485.png
ORGANIZER;CN="Spazio%20Infinito":MAILTO:centrospazioinfinito@gmail.com
END:VEVENT
END:VCALENDAR