BEGIN:VCALENDAR
VERSION:2.0
PRODID:-//Centro Spazio Infinito - ECPv4.9.14//NONSGML v1.0//EN
CALSCALE:GREGORIAN
METHOD:PUBLISH
X-WR-CALNAME:Centro Spazio Infinito
X-ORIGINAL-URL:https://www.spazioinfinito.net
X-WR-CALDESC:Eventi per Centro Spazio Infinito
BEGIN:VTIMEZONE
TZID:Europe/Rome
BEGIN:DAYLIGHT
TZOFFSETFROM:+0100
TZOFFSETTO:+0200
TZNAME:CEST
DTSTART:20220327T010000
END:DAYLIGHT
BEGIN:STANDARD
TZOFFSETFROM:+0200
TZOFFSETTO:+0100
TZNAME:CET
DTSTART:20221030T010000
END:STANDARD
END:VTIMEZONE
BEGIN:VEVENT
DTSTART;TZID=Europe/Rome:20220528T160000
DTEND;TZID=Europe/Rome:20220528T180000
DTSTAMP:20260421T103129
CREATED:20220506T094307Z
LAST-MODIFIED:20220506T094307Z
UID:15770-1653753600-1653760800@www.spazioinfinito.net
SUMMARY:Amore e Aromaterapia
DESCRIPTION:\nOli essenziali e Mix per aprirci all’Amore per sé e per gli altri\n\nWorkshop pratico e conoscitivo attraverso il meraviglioso potere terapeutico degli Oli essenziali.\nApprofondiremo quali sono quelli più adatti per risvegliare la consapevolezza per la cura di noi stessi\, per il self-.love\, per la nostra autostima ed autoefficacia. \nMa non solo: parleremo anche delle relazioni affettive da un punto di vista Aromaterapeutico e di come gli Oli essenziali ci possono essere di grande supporto in caso di liti\, malumori\, difficoltà a comunicare\, difficoltà ad approcciarsi intimamente e diverse altre sfaccettature emozionali. \n\nInfine\, nella parte pratica\, faremo insieme un esercizio di “ancoraggio positivo” con alcune note Aromatiche da me selezionate\, al fine di sperimentare un semplice ma potente rituale di Cura ed Amore verso il proprio Sé.\n\nVi aspetto!\nInfo e prenotazioni: 340 /4520235 Ely Fiordiloto\n\nPROMOZIONE SOLO PER MAGGIO:\nPrenota un trattamento Aromatouch\, dal tocco delicato ed adatto a tutti\, dai comprovati benefici psicofisici grazie al potere terapeutico degli Oli essenziali utilizzati\, e ricevi in REGALO una Lettura di carte Aromatiche che ti guiderà in un viaggio per scoprire parti di te su cui desideri far luce\, grazie alla guida dei tuoi Oli essenziali.\nSolo per Maggio!\nInfo e prenotazioni: Ely Fiordiloto 340/4520235\nSi riceve previo appuntamento presso Centro Spazio Infinito via Sassari\, 19 Parma\n
URL:https://www.spazioinfinito.net/event/amore-e-aromaterapia/
LOCATION:Il Salotto Illuminato\, Grand Hotel Largo Roma\, 4\, Salsomaggiore Terme (PR)\, Italia
CATEGORIES:Prossimi eventi
ATTACH;FMTTYPE=image/png:https://www.spazioinfinito.net/wp-content/uploads/2022/05/workshop_-maggio-2022.png
ORGANIZER;CN="Spazio%20Infinito":MAILTO:centrospazioinfinito@gmail.com
END:VEVENT
END:VCALENDAR