BEGIN:VCALENDAR
VERSION:2.0
PRODID:-//Centro Spazio Infinito - ECPv4.9.14//NONSGML v1.0//EN
CALSCALE:GREGORIAN
METHOD:PUBLISH
X-WR-CALNAME:Centro Spazio Infinito
X-ORIGINAL-URL:https://www.spazioinfinito.net
X-WR-CALDESC:Eventi per Centro Spazio Infinito
BEGIN:VTIMEZONE
TZID:Europe/Rome
BEGIN:DAYLIGHT
TZOFFSETFROM:+0100
TZOFFSETTO:+0200
TZNAME:CEST
DTSTART:20210328T010000
END:DAYLIGHT
BEGIN:STANDARD
TZOFFSETFROM:+0200
TZOFFSETTO:+0100
TZNAME:CET
DTSTART:20211031T010000
END:STANDARD
END:VTIMEZONE
BEGIN:VEVENT
DTSTART;TZID=Europe/Rome:20211019T200000
DTEND;TZID=Europe/Rome:20211019T220000
DTSTAMP:20260423T104258
CREATED:20211011T150243Z
LAST-MODIFIED:20211011T150322Z
UID:15243-1634673600-1634680800@www.spazioinfinito.net
SUMMARY:ARMONIZZAZIONE DELLE ENERGIE FEMMINILI
DESCRIPTION:La Womb Blessing – Armonizzazione delle Energie Femminili o “Benedizione del Grembo”- è una pratica ideata da Miranda Gray che risveglia le energie femminili e porta guarigione profonda e trasformatrice a tutti gli aspetti della femminilità\, connettendo la donna più profondamente alla Sacralità Femminile.\nMEDITAZIONE ARCHETIPICA DI OTTOBRE: “Guarire le antenate materne”\nNelle nostra ossa\, nel nostro DNA\, conserviamo gli schemi delle nostre antenate materne – la linea mitocondriale. La linea mitocondriale è il DNA trasmesso da ogni madre alle figlie e ai figli\, ma che solo le figlie possono a loro volta passare alla generazione successiva. Questa meditazione si incentra sulla guarigione della nostra linea di discendenza da grembo a grembo\, il nostro lignaggio mitocondriale.\nNel profondo del nostro DNA e della nostra memoria cellulare siamo\ncollegate alle nostre Antenate Materne; ai loro traumi\, al loro dolore e alla loro sofferenza\, ma anche alla loro forza\, al coraggio\, all’ingegno e alla saggezza.\nSe andiamo indietro nel tempo fino agli albori dell’umanità\, possiamo vedere come la razza umana discenda da una popolazione molto ridotta. Quindi\, quando un gruppo numeroso di donne si riunisce per inviare guarigione molto indietro nel tempo lungo la loro linea di discendenza da grembo a grembo\, viene inviata guarigione anche a tutti gli esseri umani del presente.\nQuesto rende la meditazione “Guarire le Antenate Materne” una forma di guarigione molto potente per tutti.\nRicorda\, che per ricevere l’energia della Womb Blessing inviata a distanza da Miranda Gray e dalle Moonmother il 20 ottobre è fondamentale compilare il form di iscrizione sul sito: https://wombblessing.com/register/ – anche se hai già partecipato alle Womb Blessing precedenti\, e scegliere come orario h. 18\,00 entro le h.22\,00 del 19 ottobre.\nA cura di Franca Soavi\, Moonmother avanzata formata da Miranda Gray.\nPosti limitati. Prenota il tuo posto al 3474095586 oppure centrospazioinfinito@gmail.com\nfoto: eventiyoga.it\n
URL:https://www.spazioinfinito.net/event/armonizzazione-delle-energie-femminili-2/
LOCATION:Spazio Infinito\, Via Sassari 19\, Parma\, Italia
ATTACH;FMTTYPE=image/jpeg:https://www.spazioinfinito.net/wp-content/uploads/2021/10/IMMAGINE-CERCHIO-DONNE.jpg
END:VEVENT
END:VCALENDAR