BEGIN:VCALENDAR
VERSION:2.0
PRODID:-//Centro Spazio Infinito - ECPv4.9.14//NONSGML v1.0//EN
CALSCALE:GREGORIAN
METHOD:PUBLISH
X-WR-CALNAME:Centro Spazio Infinito
X-ORIGINAL-URL:https://www.spazioinfinito.net
X-WR-CALDESC:Eventi per Centro Spazio Infinito
BEGIN:VTIMEZONE
TZID:Europe/Rome
BEGIN:DAYLIGHT
TZOFFSETFROM:+0100
TZOFFSETTO:+0200
TZNAME:CEST
DTSTART:20240331T010000
END:DAYLIGHT
BEGIN:STANDARD
TZOFFSETFROM:+0200
TZOFFSETTO:+0100
TZNAME:CET
DTSTART:20241027T010000
END:STANDARD
END:VTIMEZONE
BEGIN:VEVENT
DTSTART;TZID=Europe/Rome:20240819T203000
DTEND;TZID=Europe/Rome:20240819T220000
DTSTAMP:20260423T133416
CREATED:20240628T145932Z
LAST-MODIFIED:20240628T145932Z
UID:17601-1724099400-1724104800@www.spazioinfinito.net
SUMMARY:Benedizione mondiale del grembo
DESCRIPTION:La Benedizione del Grembo è un’armonizzazione del grembo femminile. E’ rivolta ad ogni donna di qualsiasi età ed esperienza\, porta guarigione ed espressione alla propria femminilità\, al proprio grembo e ciclo mestruale\, alla propria creatività e fertilità\, alla sfera della sessualità e della spiritualità.\nL’armonizzazione ripristina la naturale purezza e bellezza della donna\, la sua abbondanza e il suo amore\, la sua saggezza\, forza e magia intrinseche.\nLibera chi la riceve dal passato\, dalle aspettative limitanti\, dal dolore e dalle pene\, rilasciando una gioia profonda\, potere\, creatività e bellezza. La Benedizione è disponibile a tutte le donne\, sia che abbiano un utero o meno\, o che abbiano il ciclo mestruale o meno. L’Energia del Divino Femminile è disponibile per tutte le donne. L’unica condizione per poterla ricevere è di avere già avuto il primo ciclo mestruale. Si organizzano sessioni individuali e di gruppo. \nCi riuniremo a Parma in un cerchio di donne in una speciale meditazione per risvegliare la nostra autentica essenza femminile\, onorare la nostra ciclicità e la sorellanza tra le donne. \nATTENZIONE! la serata inizia puntuale alle h.20\,30 pertanto si chiede a tutte le donne di arrivare massimo alle h.20\,20. \nCOSA PORTARE: due ciotoline non in plastica (tipo macedonia); acqua da bere; un poco di cibo (vegetariano) da condividere; uno scialle (simbolo della dea); indossare possibilmente una gonna lunga; portare uno o più fiori (recisi o in vaso come preferisci). \nA cura di Franca Soavi\, Moonmother avanzata formata da Miranda Gray.\nPosti limitati. \n
URL:https://www.spazioinfinito.net/event/benedizione-mondiale-del-grembo-14/
LOCATION:Spazio Infinito\, Via Sassari 19\, Parma\, Italia
CATEGORIES:energie femminili,meditazione
ATTACH;FMTTYPE=image/jpeg:https://www.spazioinfinito.net/wp-content/uploads/2024/04/blessing.jpg
END:VEVENT
END:VCALENDAR