BEGIN:VCALENDAR
VERSION:2.0
PRODID:-//Centro Spazio Infinito - ECPv4.9.14//NONSGML v1.0//EN
CALSCALE:GREGORIAN
METHOD:PUBLISH
X-WR-CALNAME:Centro Spazio Infinito
X-ORIGINAL-URL:https://www.spazioinfinito.net
X-WR-CALDESC:Eventi per Centro Spazio Infinito
BEGIN:VTIMEZONE
TZID:Europe/Rome
BEGIN:DAYLIGHT
TZOFFSETFROM:+0100
TZOFFSETTO:+0200
TZNAME:CEST
DTSTART:20180325T010000
END:DAYLIGHT
BEGIN:STANDARD
TZOFFSETFROM:+0200
TZOFFSETTO:+0100
TZNAME:CET
DTSTART:20181028T010000
END:STANDARD
END:VTIMEZONE
BEGIN:VEVENT
DTSTART;TZID=Europe/Rome:20180113T210000
DTEND;TZID=Europe/Rome:20180113T230000
DTSTAMP:20260423T101053
CREATED:20171104T140113Z
LAST-MODIFIED:20171124T085756Z
UID:12372-1515877200-1515884400@www.spazioinfinito.net
SUMMARY:Concerto a 432 hertz pianoforte e violoncello Emiliano Toso
DESCRIPTION:Emiliano Toso (pianoforte)\, Lorena Borsetti  (violoncello) eseguiranno le melodie di Translational Music : musica creata da Emiliano Toso per farci entrare in contatto con le emozioni più profonde vissute a livello cellulare e vivere lo spazio del nostro cuore. Queste dolci melodie verranno interpretate con pianoforte e violoncello accordati a 432Hz\, nel rispetto delle leggi della Natura. Translational Music è un dono per i bambini nelle pance delle loro mamme\, per chi vuole rinascere e per tutti coloro che ricercano il proprio benessere fisico\, emozionale e spirituale. \nTranslational Music è un progetto creato da Emiliano Toso con la collaborazione del famoso Biologo americano Bruce Lipton per ridurre i livelli di stress cronico\, aumentare la propria creatività e il proprio benessere personale; viene utilizzata da molti centri olistici\, ospedali\, SPA\, scuole e da migliaia di persone come supporto al proprio sviluppo interiore personale o di gruppo. E’ stata scelta da Gregg Braden\, Bruce Lipton\, Deepak Chopra\, Raymond Moody\, Neale Donald Walsch e molti altri importanti divulgatori internazionali che lavorano nel campo scientifico e olistico. \nEmiliano Toso\, PhD: Musicista Compositore e Biologo Cellulare attento alle nuove prospettive dell’Epigenetica e della Nuova Biologia. Ha creato e sta diffondendo nel mondo il progetto Translational Music: la sua musica promuove stati di rilassamento\, riduce i livelli di stress e aumenta l’attenzione e la creatività\, viene utilizzata da scuole\, ospedali\, centri di cura e benessere\, da  scienziati internazionali e gruppi di lavoro nel campo della salute\, dell’educazione\, del coaching e della gravidanza. I suoi articoli sono apparsi su testate nazionali e ha partecipato a servizi del TG2 e di Studioaperto. Viene invitato in Europa e in America a conferenze internazionali in cui viene trattata l’integrazione tra Arte e Scienza per il benessere dell’Uomo e della Natura. \nSede: Circolo Arci Corale G.Verdi Vicolo Asdente\, 9 Parma \nCosto della serata. euro 25 \nSconto del 10% per chi partecipa anche al Seminario Biology Experience del 14 gennaio. \n
URL:https://www.spazioinfinito.net/event/concerto-a-432-hertz-emiliano-toso/
ATTACH;FMTTYPE=image/jpeg:https://www.spazioinfinito.net/wp-content/uploads/2017/11/danza-della-vita.jpg
ORGANIZER;CN="Spazio%20Infinito":MAILTO:centrospazioinfinito@gmail.com
END:VEVENT
END:VCALENDAR