BEGIN:VCALENDAR
VERSION:2.0
PRODID:-//Centro Spazio Infinito - ECPv4.9.14//NONSGML v1.0//EN
CALSCALE:GREGORIAN
METHOD:PUBLISH
X-WR-CALNAME:Centro Spazio Infinito
X-ORIGINAL-URL:https://www.spazioinfinito.net
X-WR-CALDESC:Eventi per Centro Spazio Infinito
BEGIN:VTIMEZONE
TZID:Europe/Rome
BEGIN:DAYLIGHT
TZOFFSETFROM:+0100
TZOFFSETTO:+0200
TZNAME:CEST
DTSTART:20210328T010000
END:DAYLIGHT
BEGIN:STANDARD
TZOFFSETFROM:+0200
TZOFFSETTO:+0100
TZNAME:CET
DTSTART:20211031T010000
END:STANDARD
END:VTIMEZONE
BEGIN:VEVENT
DTSTART;TZID=Europe/Rome:20210406T180000
DTEND;TZID=Europe/Rome:20210406T190000
DTSTAMP:20260422T231609
CREATED:20210328T181627Z
LAST-MODIFIED:20210328T182338Z
UID:14665-1617732000-1617735600@www.spazioinfinito.net
SUMMARY:Corso di Meditazione in 12 incontri\, La domanda è la risposta
DESCRIPTION:La MEDITAZIONE è un modo di vivere il quotidiano\, partendo dal centro del nostro ESSERE più VERO e non dai pensieri caotici che affollano la nostra mente.\n\nCorso di Meditazione online ogni:\nLUNEDI h.13\,00/14\,00\nMARTEDI h. 18\,00/19\,00\nMERCOLEDI h. 19\,00/20\,00\nInizio prossimo ciclo di 12 incontri 6 e 7 aprile 2021\n\nInsegnante: Franca Soavi\nAl fine di agevolare l’emergere dello stato di Presenza e l’apertura del cuore durante gli incontri verranno utilizzati vari strumenti\, come ad esempio la contemplazione di dipinti scelti \, l’ascolto di brani musicali e di letture ispiranti tratti dall’insegnamento di grandi Maestri della tradizione occidentale e orientale\, il tutto in un atteggiamento vergine e naif di non giudizio e di non-mente.\n\nOgni incontro di un’ora a settimana si svolge non tanto a mò di lezione\, ma seguendo l’ispirazione dell’antico metodo maieutico socratico\, secondo il quale la Verità risiede nell’animo di ognuno. Il maestro non può insegnare nulla\, solo aiuta il sincero ricercatore a trovare la giusta domanda e a riconoscere invece quelle domande illusorie scaturite esclusivamente dalla mente razionale e che allontanano dalla Verità.\n\nDurante ogni incontro verrà offerta in diretta una meditazione guidata unica e speciale di circa 15/20 minuti.\n\nInfo e prenotazioni: 3474095586  info@spazioinfinito.net\nIl costo è da intendersi Iva esclusa e si riferisce a 12 incontri di un’ora l’uno\, uno a settimana.\n\nOgni partecipante sceglie un giorno e un orario tra i 3 proposti\, in caso di impossibilità o assenza può recuperare l’incontro perso in un altro giorno\, sempre entro e non oltre i 12 incontri (3 mesi). In caso non possa nemmeno recuperare potrà comunque accedere a un canale privato telegram in cui poter ascoltare e scaricare tutte le audiomeditazioni guidate durante gli incontri.zza \n\nCi incontreremo online sulla piattaforma GoogleMeet\, una volta effettuata l’iscrizione vi verrà inviato il link d’accesso alla riunione.\nIl corso è adatto a tutti\, anche ai neofiti.\n\nCos’è la Meditazione?\nGuarda il mio ultimo video:\nhttps://www.youtube.com/watch?v=BuMiBAsNeco\nLeggi il mio articolo:\nhttps://www.spazioinfinito.net/la-medit-azione-che-cura/\n
URL:https://www.spazioinfinito.net/event/corso-di-meditazione-in-12-incontri-la-domanda-e-la-risposta/
LOCATION:Spazio Infinito\, Via Sassari 19\, Parma\, Italia
CATEGORIES:Prossimi eventi
ATTACH;FMTTYPE=image/jpeg:https://www.spazioinfinito.net/wp-content/uploads/2019/09/buddha-perdono.jpg
END:VEVENT
END:VCALENDAR