BEGIN:VCALENDAR
VERSION:2.0
PRODID:-//Centro Spazio Infinito - ECPv4.9.14//NONSGML v1.0//EN
CALSCALE:GREGORIAN
METHOD:PUBLISH
X-WR-CALNAME:Centro Spazio Infinito
X-ORIGINAL-URL:https://www.spazioinfinito.net
X-WR-CALDESC:Eventi per Centro Spazio Infinito
BEGIN:VTIMEZONE
TZID:Europe/Rome
BEGIN:DAYLIGHT
TZOFFSETFROM:+0100
TZOFFSETTO:+0200
TZNAME:CEST
DTSTART:20210328T010000
END:DAYLIGHT
BEGIN:STANDARD
TZOFFSETFROM:+0200
TZOFFSETTO:+0100
TZNAME:CET
DTSTART:20211031T010000
END:STANDARD
END:VTIMEZONE
BEGIN:VEVENT
DTSTART;TZID=Europe/Rome:20211021T150000
DTEND;TZID=Europe/Rome:20211021T190000
DTSTAMP:20260423T090349
CREATED:20210725T131633Z
LAST-MODIFIED:20211017T081302Z
UID:14822-1634828400-1634842800@www.spazioinfinito.net
SUMMARY:Costellazioni Familiari
DESCRIPTION:\nIl sistema familiare ti sostiene o ti impedisce di essere te stesso? \nUn percorso di gruppo per imparare ad essere sempre focalizzati con il proprio scopo interiore e non essere allo sbando di forze esteriori o altrui. Le Costellazioni Familiari permettono di ritrovare ciò che più ci manca e di poter realizzare ciò che non riusciamo a far accadere. Le forze in gioco sono sottili e grazie al movimento dello spirito che guida le Costellazioni possiamo liberare il nostro futuro dai destini altrui e diventare così essere unici nel proprio sistema familiare e nell’ Universo. Le Costellazioni Familiari e Sistemiche costituiscono a tal fine un metodo unico ed efficacissimo. \n  \nPer nascere abbiamo bisogno di: \n\n2 Genitori\n4 Nonni\n8 bisnonni\n16 trisavoli\n32 bisarcavoli\n64 quintisavi\n128 Exanonni\n256 Eptanonni\n512 ottanni\n1024 Ineanonni\n2048 Denonni\n\nSolo il totale delle ultime 11 generazioni ci sono voluti 4.094 ANTENATI\, tutto questo in circa 300 anni prima che nascessimo io o voi!\nFermatevi un momento e pensate…\nDa dove venite?\nQuanti combattimenti avete già  combattuto?\nQuanta fame avete già sofferto?\nQuante guerre avete vissuto?\nA quante vicissitudini sono sopravvissuti i nostri antenati?\nD’altra parte\, quanto amore\, forza\, gioie e stimoli ci hanno fatto ereditare?\nQuanto della loro forza di sopravvivere\, ognuno di loro\, ha avuto e lasciato dentro di noi perché oggi fossimo vivi…?\nEsistiamo solo grazie a tutto quello che ognuno di loro ci ha passato.\nQuindi è nostro dovere onorare i nostri antenati!\nBisogna avere GRATITUDINE E AMORE a tutti i nostri ANTENATI\, perché senza di loro ognuno di noi non sarebbe felice di conoscere questo piano terrestre e godersi la vita!!!\nGrazie a tutti per aver vissuto la vita fino a noi e chissà anche ai nostri figli.\n\nCon Monica Delpogetto www.monicadelpogetto.it \nNumero chiuso massimo 7 persone \n\n
URL:https://www.spazioinfinito.net/event/costellazioni-familiari-2/
LOCATION:Spazio Infinito\, Via Sassari 19\, Parma\, Italia
CATEGORIES:Prossimi eventi
ATTACH;FMTTYPE=image/jpeg:https://www.spazioinfinito.net/wp-content/uploads/2021/07/costellazioni-familiari.jpg
ORGANIZER;CN="Spazio%20Infinito":MAILTO:centrospazioinfinito@gmail.com
END:VEVENT
END:VCALENDAR