BEGIN:VCALENDAR
VERSION:2.0
PRODID:-//Centro Spazio Infinito - ECPv4.9.14//NONSGML v1.0//EN
CALSCALE:GREGORIAN
METHOD:PUBLISH
X-WR-CALNAME:Centro Spazio Infinito
X-ORIGINAL-URL:https://www.spazioinfinito.net
X-WR-CALDESC:Eventi per Centro Spazio Infinito
BEGIN:VTIMEZONE
TZID:Europe/Rome
BEGIN:DAYLIGHT
TZOFFSETFROM:+0100
TZOFFSETTO:+0200
TZNAME:CEST
DTSTART:20170326T010000
END:DAYLIGHT
BEGIN:STANDARD
TZOFFSETFROM:+0200
TZOFFSETTO:+0100
TZNAME:CET
DTSTART:20171029T010000
END:STANDARD
END:VTIMEZONE
BEGIN:VEVENT
DTSTART;TZID=Europe/Rome:20171111T083000
DTEND;TZID=Europe/Rome:20171111T133000
DTSTAMP:20260423T061117
CREATED:20170902T170633Z
LAST-MODIFIED:20171023T173624Z
UID:12165-1510389000-1510407000@www.spazioinfinito.net
SUMMARY:Costellazioni Sistemiche e familiari
DESCRIPTION:Il sistema familiare ti sostiene o ti impedisce di essere te stesso?? Un percorso di gruppo per imparare ad essere sempre focalizzati con il proprio scopo interiore e non essere allo sbando di forze esteriori o altrui. Le Costellazioni Familiari permettono di ritrovare ciò che più ci manca e di poter realizzare ciò che non riusciamo a far accadere. Le forze in gioco sono sottili e grazie al movimento dello spirito che guida le Costellazioni possiamo liberare il nostro futuro dai destini altrui e diventare così essere unici nel proprio sistema familiare e nell’ Universo. Le Costellazioni Familiari e Sistemiche costituiscono a tal fine un metodo unico ed efficacissimo. \nCon Monica Delpogetto www.monicadelpogetto.it Numero chiuso massimo 7 persone \n
URL:https://www.spazioinfinito.net/event/costellazioni-sistemiche-e-familiari/
LOCATION:Spazio Infinito\, Via Sassari 19\, Parma\, Italia
CATEGORIES:corsi, seminari e conferenze
ORGANIZER;CN="Spazio%20Infinito":MAILTO:centrospazioinfinito@gmail.com
END:VEVENT
END:VCALENDAR