BEGIN:VCALENDAR
VERSION:2.0
PRODID:-//Centro Spazio Infinito - ECPv4.9.14//NONSGML v1.0//EN
CALSCALE:GREGORIAN
METHOD:PUBLISH
X-WR-CALNAME:Centro Spazio Infinito
X-ORIGINAL-URL:https://www.spazioinfinito.net
X-WR-CALDESC:Eventi per Centro Spazio Infinito
BEGIN:VTIMEZONE
TZID:Europe/Rome
BEGIN:DAYLIGHT
TZOFFSETFROM:+0100
TZOFFSETTO:+0200
TZNAME:CEST
DTSTART:20200329T010000
END:DAYLIGHT
BEGIN:STANDARD
TZOFFSETFROM:+0200
TZOFFSETTO:+0100
TZNAME:CET
DTSTART:20201025T010000
END:STANDARD
END:VTIMEZONE
BEGIN:VEVENT
DTSTART;TZID=Europe/Rome:20200119T100000
DTEND;TZID=Europe/Rome:20200119T180000
DTSTAMP:20260422T231106
CREATED:20200115T171845Z
LAST-MODIFIED:20200116T084715Z
UID:13721-1579428000-1579456800@www.spazioinfinito.net
SUMMARY:ESSERE NEL CORPO\, ESSERE PRESENTI
DESCRIPTION:ESSERE NEL CORPO\, ESSERE PRESENTI \nTecniche bio-energetiche e di consapevolezza per il risveglio della coscienza e la realizzazione di Sè. \nSe pensi non senti\, se senti non pensi! \nUn percorso rivolto a tutti coloro che desiderano acquisire gli strumenti e le tecnologie per ri-conoscere\, accettare e vivere consapevolmente le proprie emozioni\, potenziare il proprio sentire\, migliorare la propria abilità comunicativa\, sia verbale che corporea\, liberare i propri blocchi energetici-fisici e vivere così una vita appagante e piena. \nOgni volta che siamo in balia dei nostri pensieri\, ansie\, paure\, preoccupazioni e non riusciamo a controllare la nostra mente in realtà ciò accade perchè ci siamo disconnessi dal nostro corpo\, dal suo sentire profondo\, dalla sua qualità di essere sempre nel momento presente. \nLa mente pensa\, il corpo sente! \n\nProgramma:\n\n\n– le basi della Bioenergetica di Alexander Lowen\n\n\n– le emozioni: fisiologia\, funzione\, espressione\n\n\n– l’energia vitale: studio\, esperienza\, potenziamento\n\n\n– tecniche di massaggio\n\n\n– la respirazione\n\n\n– il grounding: il contatto con la realtà\n\n\n– la meditazione di consapevolezza: l’importanza del qui e ora\n\n\n– la leadership etica\n\n\n– il linguaggio del corpo\n\n\n– le malattie: messaggi dell’anima\n\n\n– unità corpo-mente-spirito per entrare nel processo di creatività\n\na cura di Franca Soavi \nFinalmente un percorso completo in cui potrai: \n✅conoscere ed entrare più in contatto con le tue emozioni\n✅potenziare la tua energia\n✅liberare i tuoi blocchi energetici\, fisici\, emozionali\n✅migliorare la tua abilità comunicativa\, sia verbale che corporea\n✅vivere una vita più appagante e piena. \nDATE DEL PERCORSO: \n10 novembre 2019 \n8 dicembre 2019 \n19 gennaio 2020 \n16 febbraio 2020 \n15 marzo 2020 \n19 aprile 2020 \n17 maggio 2020 \n14 giugno \nORARI: h.10\,00/13\,00   14\,30/18\,00 \nMODALITA’ DI ISCRIZIONE E COSTI: \n\nCon iscrizione entro il 30 settembre: costo ad incontro. Euro 85 + Iva 22%\nCon iscrizione dopo il 30 settembre: costo ad incontro: Euro 95 + Iva 22%\nTermine massimo di iscrizione: 26 ottobre\n\nPer iscriversi è necessario il versamento del 30%  del costo totale del percorso (8 incontri) utilizzando i dati bancari che verranno forniti in seguito\, oppure in contanti. \nPer chi lo desidera è possibile suddividere la cifra restante in due rate\, una da versare al 3° e l’altra al 5° incontro. \nRimango disponibile per ulteriori richieste di informazioni o per altre necessità. \nNOTE:: \n\nal termine del percorso (52 ore) verrà rilasciato un Certificato di Partecipazione.\nE’ possibile mancare\, per malattia o impegni improrogabili\, al 20% delle ore totali (corrispondenti a una domenica intera e a un pomeriggio\, oppure a 2 pomeriggi e una mattina).\nAccetto con gioia e onore solo l’iscrizione di chi desidera profondamente lavorare su di sé\, con dedizione\, entusiasmo\, onestà e desiderio di crescita\, consapevole che nel rispetto del gruppo la partecipazione costante è di vitale importanza. Il gruppo è a numero chiuso\, pertanto non sarà possibile per nessuno inserirsi nel gruppo dopo il primo incontro.\n\n  \n
URL:https://www.spazioinfinito.net/event/essere-nel-corpo-essere-presenti-2-2/
LOCATION:Spazio Infinito\, Via Sassari 19\, Parma\, Italia
CATEGORIES:Prossimi eventi
ATTACH;FMTTYPE=image/jpeg:https://www.spazioinfinito.net/wp-content/uploads/2019/08/donna.jpg
ORGANIZER;CN="Spazio%20Infinito":MAILTO:centrospazioinfinito@gmail.com
END:VEVENT
END:VCALENDAR