BEGIN:VCALENDAR
VERSION:2.0
PRODID:-//Centro Spazio Infinito - ECPv4.9.14//NONSGML v1.0//EN
CALSCALE:GREGORIAN
METHOD:PUBLISH
X-WR-CALNAME:Centro Spazio Infinito
X-ORIGINAL-URL:https://www.spazioinfinito.net
X-WR-CALDESC:Eventi per Centro Spazio Infinito
BEGIN:VTIMEZONE
TZID:Europe/Rome
BEGIN:DAYLIGHT
TZOFFSETFROM:+0100
TZOFFSETTO:+0200
TZNAME:CEST
DTSTART:20220327T010000
END:DAYLIGHT
BEGIN:STANDARD
TZOFFSETFROM:+0200
TZOFFSETTO:+0100
TZNAME:CET
DTSTART:20221030T010000
END:STANDARD
END:VTIMEZONE
BEGIN:VEVENT
DTSTART;TZID=Europe/Rome:20220109T100000
DTEND;TZID=Europe/Rome:20220109T170000
DTSTAMP:20260424T020725
CREATED:20210523T155943Z
LAST-MODIFIED:20211229T190455Z
UID:14706-1641722400-1641747600@www.spazioinfinito.net
SUMMARY:ESSERE NEL CORPO\, ESSERE PRESENTI Formazione in Bioenergetica ( livello base )
DESCRIPTION:ESSERE NEL CORPO\, ESSERE PRESENTI \nTecniche bio-energetiche e di consapevolezza per il risveglio della coscienza e la realizzazione di Sè. \nSe pensi non senti\, se senti non pensi! \nUn percorso rivolto a tutti coloro che desiderano acquisire gli strumenti e le tecnologie per ri-conoscere\, accettare e vivere consapevolmente le proprie emozioni\, potenziare il proprio sentire\, migliorare la propria abilità comunicativa\, sia verbale che corporea\, liberare i propri blocchi energetici-fisici e vivere così una vita appagante e piena. \nOgni volta che siamo in balia dei nostri pensieri\, ansie\, paure\, preoccupazioni e non riusciamo a controllare la nostra mente in realtà ciò accade perchè ci siamo disconnessi dal nostro corpo\, dal suo sentire profondo\, dalla sua qualità di essere sempre nel momento presente. \nLa mente pensa\, il corpo sente! \n\nProgramma Livello Base:\n\n\nbasi della Bioenergetica di Alexander Lowen\nle emozioni: fisiologia\, funzione\, sblocco\nla respirazione per superare ansia e paura\nil Grounding: il contatto con la realtà\nil linguaggio del corpo: il tuo corpo è il tuo carattere\nesercizi bioenergetici per sciogliere la corazza muscolare\ngli occhi\, specchio dell’anima\nla voce espressione del carattere\nla danza\, celebrare la vita\nemisfero destro\, disegno e creatività\n\n\n\na cura di Franca Soavi Naturopata\, Master in Bioenergetica dal 1999\, Insegnante di Meditazione\, Consulente in Biodiscipline e trattamenti energetico vibrazionali. \nA chi è rivolta la Formazione: \n\nA tutti coloro che desiderano intraprendere un PERCORSO DI AUTO INDAGINE e migliorare il rapporto con il proprio CORPO\, considerato non tanto come oggetto estetico\, o come una macchina biologica più o meno efficiente\, né come causa di sofferenza e tradimenti. La Formazione “Essere nel corpo\, essere presenti” mira a ritrovare il contatto con un CORPO VISSUTO\, SENTITO interiormente\, che non ricerca approvazione dagli altri o da standard sociali\, bensì viene AMATO in modo autogeno\, non in quanto bello\, brutto\, forte o debole\, ma in quanto manifestazione meravigliosa della VITA che in esso fluisce.\nA quei PROFESSIONISTI DEL BENESSERE (counsellor\, operatori olistici\, naturopati\, massaggiatori\, insegnanti yoga\, ecc…) che desiderano approfondire il LAVORO SU DI SE’ al fine di migliorare se stessi e il servizio che offrono ai propri utenti.\n\nFinalmente una formazione completa in cui potrai: \n✅aumentare la tua autostima \n✅uscire da meccanismi limitanti del passato \n✅conoscere ed entrare in contatto con le tue emozioni \n✅potenziare la tua energia \n✅potenziare la tua capacità di autoespressione \n✅liberare i tuoi blocchi energetici\, fisici\, emozionali \n✅migliorare la tua abilità comunicativa\, sia verbale che corporea \n ✅realizzare te stesso e vivere una vita più appagante e piena \n  \nDATE DEL PERCORSO: \n\n  9 gennaio 2022\n  6 febbraio 2022\n  6 marzo 2022\n  3 aprile 2022\n  8 maggio 2022\n  5 giugno 2022\n\nORARI: h.9\,30/13\,00  14\,00/17\,00 \nMODALITA’ DI ISCRIZIONE E COSTI \n\nE’ possibile partecipare al 1° e al 2° incontro pagando anticipatamente il costo di euro 105 + Iva 22% ad incontro ai dati bancari che verranno forniti in seguito.  Dal 3° incontro in poi è richiesta la partecipazione fino al termine del percorso a giugno. Chi non desidera proseguire può ritirarsi dopo il primo o il secondo incontro.\nPer chi si iscrive subito al percorso completo di 6 incontri (da gennaio a giugno ) è previsto uno sconto del 10%. Per iscriversi in questo caso è necessario il versamento del 30%  del costo totale del percorso utilizzando i dati bancari che verranno forniti in seguito.\nIl saldo sarà da versare il giorno del 3° incontro. Per chi preferisse è possibile dividere il saldo in 2 tranche\, una al 3° incontro\, una al 5°.\n\nNOTE:: \n\nAl termine del percorso verrà rilasciato un Certificato di Partecipazione.\nE’ possibile mancare a max n.1  seminario\, del quale verra’ fornita comunque la registrazione Sarà premura dell’allievo assente procurarsi gli appunti dai compagni di corso e mettersi in pari col programma prima del seminario successivo.\nPer chi perdesse più seminari sarà possibile recuperare frequentando i seminari persi l’anno successivo.\nAccetto con gioia l’iscrizione di chi desidera profondamente lavorare su di sé\, con dedizione\, entusiasmo\, onestà e desiderio di crescita\, consapevole che nel rispetto del gruppo la partecipazione costante è di vitale importanza. Il gruppo è a numero chiuso\, e accoglierà max 7 persone.\n\n  \n
URL:https://www.spazioinfinito.net/event/essere-nel-corpo-essere-presenti-formazione-in-bioenergetica-livello-base/
LOCATION:Spazio Infinito\, Via Sassari 19\, Parma\, Italia
CATEGORIES:Prossimi eventi
ATTACH;FMTTYPE=image/jpeg:https://www.spazioinfinito.net/wp-content/uploads/2021/05/woman-591576_1920.jpg
ORGANIZER;CN="Spazio%20Infinito":MAILTO:centrospazioinfinito@gmail.com
END:VEVENT
END:VCALENDAR