BEGIN:VCALENDAR
VERSION:2.0
PRODID:-//Centro Spazio Infinito - ECPv4.9.14//NONSGML v1.0//EN
CALSCALE:GREGORIAN
METHOD:PUBLISH
X-WR-CALNAME:Centro Spazio Infinito
X-ORIGINAL-URL:https://www.spazioinfinito.net
X-WR-CALDESC:Eventi per Centro Spazio Infinito
BEGIN:VTIMEZONE
TZID:Europe/Rome
BEGIN:DAYLIGHT
TZOFFSETFROM:+0100
TZOFFSETTO:+0200
TZNAME:CEST
DTSTART:20190331T010000
END:DAYLIGHT
BEGIN:STANDARD
TZOFFSETFROM:+0200
TZOFFSETTO:+0100
TZNAME:CET
DTSTART:20191027T010000
END:STANDARD
END:VTIMEZONE
BEGIN:VEVENT
DTSTART;TZID=Europe/Rome:20190515T190000
DTEND;TZID=Europe/Rome:20190515T200000
DTSTAMP:20260422T230940
CREATED:20190506T135508Z
LAST-MODIFIED:20190506T135508Z
UID:13395-1557946800-1557950400@www.spazioinfinito.net
SUMMARY:Fisiologia e trasmutazione delle emozioni
DESCRIPTION:Le emozioni umane primarie\, comuni a tutti gli esseri viventi di qualunque razza e cultura\, sono: gioia\, paura\, rabbia\, tristezza\, stupore\, disgusto.\nOgni essere umano sano cerca naturalmente la felicità\, quello stato cioè di benessere psico-fisico in cui sentirsi a proprio agio\, rilassato e in armonia con se stesso e con gli altri.\n.\n.\nAl fine di essere felici spesso desideriamo negare le emozioni cosiddette negative\, come la tristezza e la rabbia ad esempio\, come se fossero uno sbaglio\, un errore da correggere; in verità ogni emozione ha una sua ragione d’essere; l’unica cosa da fare con le emozioni è di conoscerle\, rispettarle e viverle consapevolmente\, traendo da tutte loro l’insegnamento che hanno in serbo per noi.\n.\n.\nIl nostro corpo non commette errori\, al contrario sempre ci manda messaggi\, affinchè possiamo accrescere la nostra consapevolezza. Le emozioni diventano tuttavia dannose quando prendono il sopravvento sulla coscienza ed escono dall’area della consapevolezza\, scendendo al livello reattivo e inconscio. In tal caso è importante sapere come trasmutarle\, per liberare l’energia intrappolata dal loro eccesso e ritrovare centratura.\n.\n.\n6 incontri teorico-pratici di consapevolezza\, ogni mercoledì dalle h.19 alle h.20 a partire da mercoledì 15 maggio fino al 19 giugno compreso. Con Franca Soavi \nCosto totale dei 6 incontri: euro 90 \nImmagine: dipinto materico “La presenza crea il cambiamento” di Piero Lo Presti \n
URL:https://www.spazioinfinito.net/event/fisiologia-e-trasmutazione-delle-emozioni/
CATEGORIES:Prossimi eventi
ATTACH;FMTTYPE=image/jpeg:https://www.spazioinfinito.net/wp-content/uploads/2019/05/la-presenza-crea-il-cambiamento-piero-lo-presti-1.jpg
ORGANIZER;CN="Spazio%20Infinito":MAILTO:centrospazioinfinito@gmail.com
END:VEVENT
END:VCALENDAR