BEGIN:VCALENDAR
VERSION:2.0
PRODID:-//Centro Spazio Infinito - ECPv4.9.14//NONSGML v1.0//EN
CALSCALE:GREGORIAN
METHOD:PUBLISH
X-WR-CALNAME:Centro Spazio Infinito
X-ORIGINAL-URL:https://www.spazioinfinito.net
X-WR-CALDESC:Eventi per Centro Spazio Infinito
BEGIN:VTIMEZONE
TZID:Europe/Rome
BEGIN:DAYLIGHT
TZOFFSETFROM:+0100
TZOFFSETTO:+0200
TZNAME:CEST
DTSTART:20250330T010000
END:DAYLIGHT
BEGIN:STANDARD
TZOFFSETFROM:+0200
TZOFFSETTO:+0100
TZNAME:CET
DTSTART:20251026T010000
END:STANDARD
END:VTIMEZONE
BEGIN:VEVENT
DTSTART;TZID=Europe/Rome:20251006T203000
DTEND;TZID=Europe/Rome:20251006T220000
DTSTAMP:20260423T152547
CREATED:20251008T084636Z
LAST-MODIFIED:20251008T084636Z
UID:18513-1759782600-1759788000@www.spazioinfinito.net
SUMMARY:MEDITAZIONE Guarigione delle antenate materne
DESCRIPTION:Nelle nostra ossa\, nel nostro DNA\, conserviamo gli schemi delle nostre antenate materne – la linea mitocondriale. La linea mitocondriale è il DNA trasmesso da ogni madre alle figlie e ai figli\, ma che solo le figlie possono a loro volta passare alla generazione successiva. Questa meditazione si incentra sulla guarigione della nostra linea di discendenza da grembo a grembo\, il nostro lignaggio mitocondriale.\nNel profondo del nostro DNA e della nostra memoria cellulare siamo collegate alle nostre Antenate Materne; ai loro traumi\, al loro dolore e alla loro sofferenza\, ma anche alla loro forza\, al coraggio\, all’ingegno e alla saggezza. Se andiamo indietro nel tempo fino agli albori dell’umanità\, possiamo vedere come la razza umana discenda da una popolazione molto ridotta. Quindi\, quando un gruppo numeroso di donne si riunisce per inviare guarigione molto indietro nel tempo lungo la loro linea di discendenza da grembo a grembo\, viene inviata guarigione anche a tutti gli esseri umani del presente. Questo rende la meditazione “Guarire le Antenate Materne” una forma di guarigione molto potente per tutti.\n\nPer le antiche tradizioni dell’Europa settentrionale Samhain\, o Halloween\, rappresentava la celebrazione del passaggio della Madre Terra dall’archetipo dell’Incantatrice a quello della Strega.\nÈ anche il momento migliore per viaggiare nell’aldilà\, fino alla terra degli antenati\, per guarire la nostra linea di discendenza materna e per liberare la bellezza\, la magia\, la forza e la saggezza di questo lignaggio così che possa esprimersi nella nostra vita.\n\nPer questa meditazione dovrai creare una rappresentazione fisica della tua linea di discendenza femminile – tua madre\, tua figlia\, tua nonna\, la tua bisnonna\, ecc.\nContributo: euro 30+iva\nConduce: Franca Soavi\n
URL:https://www.spazioinfinito.net/event/meditazione-guarigione-delle-antenate-materne-2/
LOCATION:Spazio Infinito\, Via Sassari 19\, Parma\, Italia
CATEGORIES:energie femminili,meditazione
END:VEVENT
END:VCALENDAR