BEGIN:VCALENDAR
VERSION:2.0
PRODID:-//Centro Spazio Infinito - ECPv4.9.14//NONSGML v1.0//EN
CALSCALE:GREGORIAN
METHOD:PUBLISH
X-WR-CALNAME:Centro Spazio Infinito
X-ORIGINAL-URL:https://www.spazioinfinito.net
X-WR-CALDESC:Eventi per Centro Spazio Infinito
BEGIN:VTIMEZONE
TZID:Europe/Rome
BEGIN:DAYLIGHT
TZOFFSETFROM:+0100
TZOFFSETTO:+0200
TZNAME:CEST
DTSTART:20220327T010000
END:DAYLIGHT
BEGIN:STANDARD
TZOFFSETFROM:+0200
TZOFFSETTO:+0100
TZNAME:CET
DTSTART:20221030T010000
END:STANDARD
END:VTIMEZONE
BEGIN:VEVENT
DTSTART;TZID=Europe/Rome:20220423T160000
DTEND;TZID=Europe/Rome:20220423T180000
DTSTAMP:20260421T103108
CREATED:20220401T191329Z
LAST-MODIFIED:20220401T191927Z
UID:15700-1650729600-1650736800@www.spazioinfinito.net
SUMMARY:Oli essenziali & ERBE MAGICHE
DESCRIPTION:Workshop pratico e conoscitivo attraverso la cultura\, usi e tradizioni magiche di Erbe ed Oli essenziali.\nApprofondiremo quali Oli utilizzare per i rituali\, le protezioni personali e per purificare gli ambienti. Scopriremo il perché di molte tradizioni e rituali ancora oggi praticati in giro per il Mondo.\nInfine\, nella parte pratica\, costruiremo insieme un roll-on a base di Oli essenziali certificati e puri\, che possa racchiudere un Intento ed essere quindi utilizzato in tutti i rituali di benessere e protezione quotidiana. \nA cura di Elisa Bragadini \nContributo partecipazione: €35.00/cad.\nNumero max partecipanti: \nInfo e prenotazioni: 340 4520235\nhttp://www.elyfiordiloto.it\nelibragadini@gmail.com\n\n
URL:https://www.spazioinfinito.net/event/oli-essenziali-erbe-magiche/
LOCATION:Spazio Infinito\, Via Sassari 19\, Parma\, Italia
CATEGORIES:Prossimi eventi
ATTACH;FMTTYPE=image/jpeg:https://www.spazioinfinito.net/wp-content/uploads/2022/04/erbe-magiche.jpg
ORGANIZER;CN="Spazio%20Infinito":MAILTO:centrospazioinfinito@gmail.com
END:VEVENT
END:VCALENDAR