BEGIN:VCALENDAR
VERSION:2.0
PRODID:-//Centro Spazio Infinito - ECPv4.9.14//NONSGML v1.0//EN
CALSCALE:GREGORIAN
METHOD:PUBLISH
X-WR-CALNAME:Centro Spazio Infinito
X-ORIGINAL-URL:https://www.spazioinfinito.net
X-WR-CALDESC:Eventi per Centro Spazio Infinito
BEGIN:VTIMEZONE
TZID:Europe/Rome
BEGIN:DAYLIGHT
TZOFFSETFROM:+0100
TZOFFSETTO:+0200
TZNAME:CEST
DTSTART:20200329T010000
END:DAYLIGHT
BEGIN:STANDARD
TZOFFSETFROM:+0200
TZOFFSETTO:+0100
TZNAME:CET
DTSTART:20201025T010000
END:STANDARD
END:VTIMEZONE
BEGIN:VEVENT
DTSTART;TZID=Europe/Rome:20200201T150000
DTEND;TZID=Europe/Rome:20200201T180000
DTSTAMP:20260423T042539
CREATED:20200115T110046Z
LAST-MODIFIED:20200123T173258Z
UID:13843-1580569200-1580580000@www.spazioinfinito.net
SUMMARY:OPENDAY MESE DELLO SHIATSU
DESCRIPTION:NOVITA’!!! OPEN DAY\nMESE DELLO SHIATSU\n25 GENNAIO\n1/8/15 FEBBRAIO H.15\,00/18\,00\nScopri come tramite lo shiatsu sia possibile dare al tuo organismo una sferzata di energia e vitalità\, ridurre lo stress e ristabilire il naturale equilibrio tra corpo\, mente e spirito. Vieni a provare un trattamento! Prenotazione obbligatoria.\nA cura di Sara Monticelli \n
URL:https://www.spazioinfinito.net/event/openday-mese-dello-shiatsu/
LOCATION:Spazio Infinito\, Via Sassari 19\, Parma\, Italia
CATEGORIES:News
ORGANIZER;CN="Spazio%20Infinito":MAILTO:centrospazioinfinito@gmail.com
END:VEVENT
END:VCALENDAR