BEGIN:VCALENDAR
VERSION:2.0
PRODID:-//Centro Spazio Infinito - ECPv4.9.14//NONSGML v1.0//EN
CALSCALE:GREGORIAN
METHOD:PUBLISH
X-WR-CALNAME:Centro Spazio Infinito
X-ORIGINAL-URL:https://www.spazioinfinito.net
X-WR-CALDESC:Eventi per Centro Spazio Infinito
BEGIN:VTIMEZONE
TZID:Europe/Rome
BEGIN:DAYLIGHT
TZOFFSETFROM:+0100
TZOFFSETTO:+0200
TZNAME:CEST
DTSTART:20170326T010000
END:DAYLIGHT
BEGIN:STANDARD
TZOFFSETFROM:+0200
TZOFFSETTO:+0100
TZNAME:CET
DTSTART:20171029T010000
END:STANDARD
END:VTIMEZONE
BEGIN:VEVENT
DTSTART;TZID=Europe/Rome:20171126T093000
DTEND;TZID=Europe/Rome:20171126T180000
DTSTAMP:20260423T044345
CREATED:20170903T141156Z
LAST-MODIFIED:20171112T160050Z
UID:12175-1511688600-1511719200@www.spazioinfinito.net
SUMMARY:Seminario di Meditazione (elemento acqua)
DESCRIPTION:Il Seminario del 26 novembre è il secondo di 4 seminari dedicati al lavoro di riequilibrio dei 4 elementi dentro di sé. ll Seminario teorico-pratico sarà dedicato all’ ELEMENTO ACQUA nelle sue molteplici sfaccettature attraverso meditazioni\, esperienze con cristalli adatti a rafforzare il legame con l’acqua\, specifici esercizi corporei ed energetici. \nE’ possibile partecipare al seminario anche senza aver partecipato al precedente. \nPurificare e riequilibrare l’elemento Acqua dentro di noi significa equilibrare il nostro mondo emozionale\, il nostro mondo di bisogni e desideri.\nL’elemento Acqua è connesso alla Luna e al secondo chakra (Svadhisthana chakra)\, pertanto verranno affrontati temi quali: cambiamento\, amore condizionato e amore incondizionato\, sessualità\, desiderio\, accettare il flusso della vita\, uscire dall’abitudine\, stare nel PRESENTE che è flusso\, ecc…Una speciale meditazione sarà dedicata all’Arcangelo Haniel. \nMeditazione non è estraniarsi dalla realtà\, o non provare più emozioni\, in una sorta di piatta neutralità. Al contrario Meditazione è risvegliarsi alla vera Realtà\, osservare che i pensieri non sono nostri e permettere che le emozioni si equilibrino trasmutandosi in sentimenti. \nMeditazione è stare con ciò che c’è nel qui ed ora; non è una tecnica\, un fare qualcosa per ottenere qualcos’altro\, questi sono esercizi\, pratiche\, ma la Meditazione è uno stato dell’essere\, uno stato di attenzione consapevole\, di Presenza costante\, un saper stare in contatto col proprio silenzio interiore\, e anche con il proprio caos. Meditazione significa osservare ciò che si manifesta in ogni istante senza identificarsi con esso\, e tuttavia vivendolo fino in fondo e attraversandolo.\nPertanto la Meditazione è quell’atteggiamento che ci consente di vivere e accettare ogni situazione rimanendo Testimoni\, centrati in Colui che osserva…\nQuando risiediamo nel centro dell’IO SONO siamo in contatto con l’origine della Vita stessa\, che è AMORE\, GIOIA e BELLEZZA. \nDurante il seminario si alterneranno momenti teorici a momenti pratici\, esercizi individuali e di gruppo per sviluppare la PRESENZA CONSAPEVOLE e il RICORDO DI SE’ anche nelle azioni di tutti i giorni come parlare\, camminare\, mangiare\, danzare… \nCome sempre uno spazio speciale sarà riservato al rilassamento e alla guarigione cellulare grazie al suono armonico delle campane di cristallo e all’ascolto della musica a 432 hertz. Specifiche meditazioni e pratiche agiranno sul riequilibrio energetico e sull’armonizzazione dei corpi sottili. \nSeminario adatto a tutti\, neofiti e meditatori.\nChi vuole recuperare seminari persi lo potrà fare il prossimo anno 2017/2018.\nDATE PROSSIMI SEMINARI:\n26 NOVEMBRE 2017: elemento acqua\n25 FEBBRAIO 2018: elemento fuoco\n22 APRILE 2018: elemento aria \nInsegnante: Franca Soavi\nCosto: euro 85; euro 75 per gli iscritti alla meditazione settimanale\nSede: Spazio Infinito\, V. Sassari 19 Parma\nInfo e iscrizioni: 3474095586\nemail: centrospazioinfinito@gmail.com \n
URL:https://www.spazioinfinito.net/event/seminario-di-meditazione-elemento-acqua/
LOCATION:Spazio Infinito\, Via Sassari 19\, Parma\, Italia
CATEGORIES:corsi, seminari e conferenze
ATTACH;FMTTYPE=image/jpeg:https://www.spazioinfinito.net/wp-content/uploads/2017/09/meditazione-acqua-1.jpeg
END:VEVENT
END:VCALENDAR